BEGIN:VCALENDAR
VERSION:2.0
PRODID:-//ChamberMaster//Event Calendar 2.0//EN
METHOD:PUBLISH
X-PUBLISHED-TTL:P3D
REFRESH-INTERVAL:P3D
CALSCALE:GREGORIAN
BEGIN:VEVENT
DTSTART:20220426T200000Z
DTEND:20220426T220000Z
X-MICROSOFT-CDO-ALLDAYEVENT:FALSE
SUMMARY:Celebrate Spring Networking BBQ at Olney Assisted Living
DESCRIPTION:Let's celebrate spring together with a BBQ! Please join us for an evening of fun and networking with other professionals.\n\nCo-sponsored by Visiting Angels.\n\nRSVP by Friday\, April 22nd on our website or by calling 240.389.5168
X-ALT-DESC;FMTTYPE=text/html:<p><span dir="ltr">Let&rsquo\;s celebrate spring together with a BBQ! Please join us for an evening of fun and&nbsp\;</span><span dir="ltr">networking with other professionals.</span></p>\n\n<p><span dir="ltr">Co-sponsored by Visiting Angels.</span></p>\n\n<p><span dir="ltr"><a href="https://www.olneymemorycare.com/communities/olney-assisted-living/events/details/4689/celebrate-spring-at-olney-assisted-living">RSVP by Friday\, April 22nd on our website&nbsp\;</a>or by calling 240.389.5168</span><br />\n&nbsp\;</p>\n
LOCATION:Olney Assisted Living\, 16940 Georgia Avenue\, Olney\, MD 20832
UID:e.1793.5539
SEQUENCE:3
DTSTAMP:20260422T093039Z
URL:https://business.olneymd.org/events/details/celebrate-spring-networking-bbq-at-olney-assisted-living-5539
END:VEVENT

END:VCALENDAR
