BEGIN:VCALENDAR
VERSION:2.0
PRODID:-//ChamberMaster//Event Calendar 2.0//EN
METHOD:PUBLISH
X-PUBLISHED-TTL:P3D
REFRESH-INTERVAL:P3D
CALSCALE:GREGORIAN
BEGIN:VEVENT
DTSTART:20220519T150000Z
DTEND:20220519T160000Z
X-MICROSOFT-CDO-ALLDAYEVENT:FALSE
SUMMARY:Cadence Olney Ribbon Cutting
DESCRIPTION:Cadence at Olney Ribbon Cutting\n\n\n\nMay 19\, 2022 at 11am\n\n\n\n\n\nPlease join Cadence at Olney for a Ribbon Cutting ceremony commemorating the opening of their new luxury senior living facility.
X-ALT-DESC;FMTTYPE=text/html:<div style="text-align: center\;"><span style="font-size:26px\;"><span style="font-family:verdana\;">&nbsp\;&nbsp\;<strong>Cadence at Olney Ribbon Cutting</strong><br />\n<br />\n<b>May 19\, 2022 at 11am</b></span></span></div>\n\n<div style="text-align: center\;"><br />\n<br />\n<span style="font-family:verdana\;"><span style="font-size: 18px\;"><span style="font-size:22px\;">Please join Cadence at&nbsp\;Olney for a Ribbon Cutting ceremony commemorating the opening of their new luxury senior living facility.</span></span></span><br />\n<br />\n<br />\n<br />\n&nbsp\;</div>\n
LOCATION:Cadence at Olney 17001 Georgia Ave Olney\, MD 20832
UID:e.1793.5546
SEQUENCE:3
DTSTAMP:20260422T054624Z
URL:https://business.olneymd.org/events/details/cadence-olney-ribbon-cutting-5546
END:VEVENT

END:VCALENDAR
