BEGIN:VCALENDAR
VERSION:2.0
PRODID:-//ChamberMaster//Event Calendar 2.0//EN
METHOD:PUBLISH
X-PUBLISHED-TTL:P3D
REFRESH-INTERVAL:P3D
CALSCALE:GREGORIAN
BEGIN:VEVENT
DTSTART:20251023T223000Z
DTEND:20251023T233000Z
X-MICROSOFT-CDO-ALLDAYEVENT:FALSE
SUMMARY:Brews\, Boos & Budgets
DESCRIPTION:A casual night out with licensed financial advisor Randy Nittoli.  Have a beer\, laugh a little\, and learn how to budget without the fear.  Learn the tricks to make your money treat you!\n\n\n\nDon't ghost this invite\, RSVP if you dare!\n\n\n\n(301) 774-6026\n\nrandolph.nittoli@edwardjones.com
X-ALT-DESC;FMTTYPE=text/html:A casual night out with licensed financial advisor Randy Nittoli.&nbsp\; Have a beer\, laugh a little\, and learn how to budget without the fear.&nbsp\; Learn the tricks to make your money treat you!<br />\n<br />\nDon&#39\;t ghost this invite\, RSVP if you dare!<br />\n<br />\n<a class="ej-web-dial wd-link" data-wd-enabled="true" data-wd-phone-no="+13017746026" data-wd-title="Click to dial (301) 774-6026 using Web Dial." href="tel:+13017746026">(301) 774-6026</a><br />\nrandolph.nittoli@edwardjones.com
LOCATION:Elder Pine Brewing & Blending Company 4200 Sundown Road Olney\, MD 20872
UID:e.1793.7060
SEQUENCE:3
DTSTAMP:20260421T193401Z
URL:https://business.olneymd.org/events/details/brews-boos-budgets-7060
END:VEVENT

END:VCALENDAR
