BEGIN:VCALENDAR
VERSION:2.0
PRODID:-//ChamberMaster//Event Calendar 2.0//EN
METHOD:PUBLISH
X-PUBLISHED-TTL:P3D
REFRESH-INTERVAL:P3D
CALSCALE:GREGORIAN
BEGIN:VEVENT
DTSTART:20250115T230000Z
DTEND:20250116T020000Z
X-MICROSOFT-CDO-ALLDAYEVENT:FALSE
SUMMARY:Beyond the Tap: Innovative Home Water Filtration Options
DESCRIPTION:Whether you rely on city water or well water\, there is a growing need for water filtration. Though your water may be hard or soft   or treated with chlorine\, chloramine\, or other harmful chemicals   you can control the water quality in your home. Join us for this free event to explore water filtration options that can protect you\, your family\, and your home.\n\n\n\nEnjoy some light refreshments as you learn about chlorine\, chloramines\, PFOS\, and forever chemicals commonly found in city water. Discover what an environmental water system is   and how it helps to remove harmful chemicals from municipal or well water sources. Explore whole-home\, under-sink\, and specialty filtration systems for ice makers and wet bars that give you healthy water without a hassle!
X-ALT-DESC;FMTTYPE=text/html:<p><span style="background-color:transparent\; color:rgb(0\, 0\, 0)\; font-family:montserrat\,sans-serif\; font-size:10pt">Whether you rely on city water or well water\, there is a growing need for water filtration. Though your water may be hard or soft &mdash\; or treated with chlorine\, chloramine\, or other harmful chemicals &mdash\; you&nbsp\;</span><em>can</em><span style="background-color:transparent\; color:rgb(0\, 0\, 0)\; font-family:montserrat\,sans-serif\; font-size:10pt">&nbsp\;control the water quality in your home. Join us for this free event to explore water filtration options that can protect you\, your family\, and your home.</span><br />\n<br />\n<span style="background-color:transparent\; color:rgb(0\, 0\, 0)\; font-family:montserrat\,sans-serif\; font-size:10pt">Enjoy some light refreshments as you learn about chlorine\, chloramines\, PFOS\, and forever chemicals commonly found in city water. Discover what an environmental water system is &mdash\; and how it helps to remove harmful chemicals from municipal or well water sources. Explore whole-home\, under-sink\, and specialty filtration systems for ice makers and wet bars that give you healthy water without a hassle!</span></p>\n
LOCATION:House to Home Solutions\, 15745 Crabbs Branch Way\, Rockville\, MD 20855
UID:e.1793.6318
SEQUENCE:3
DTSTAMP:20260423T084004Z
URL:https://business.olneymd.org/events/details/beyond-the-tap-innovative-home-water-filtration-options-6318
END:VEVENT

END:VCALENDAR
