BEGIN:VCALENDAR
VERSION:2.0
PRODID:-//ChamberMaster//Event Calendar 2.0//EN
METHOD:PUBLISH
X-PUBLISHED-TTL:P3D
REFRESH-INTERVAL:P3D
CALSCALE:GREGORIAN
BEGIN:VEVENT
DTSTART:20221022T140000Z
DTEND:20221022T170000Z
X-MICROSOFT-CDO-ALLDAYEVENT:FALSE
SUMMARY:Antique Car Cruise In & Trunk or Treat to Benefit the Alzheimer's Association
DESCRIPTION:Be our guest for a fun trip down memory lane and a chance for the little ones in your life to show off their costumes! Do you have an antique car\, truck\, or motorcycle you'd like to show off? We'd love to have you join us. Space is limited for show cars\, so please register as soon as possible. No RSVP is needed for trunk-or-treating. We look forward to seeing you!\n\nDonations for the Alzheimer's Association will be greatly appreciated.
X-ALT-DESC;FMTTYPE=text/html:<p>Be our guest for a fun trip down memory lane and a chance for the little ones in your life to show off their costumes! Do you have an antique car\, truck\, or motorcycle you&rsquo\;d like to show off? We&rsquo\;d love to have you join us.&nbsp\;Space is limited for show cars\, so please register as soon as possible.&nbsp\;No RSVP is needed for trunk-or-treating. We look forward to seeing you!</p>\n\n<p>Donations for the Alzheimer&rsquo\;s Association will be greatly appreciated.</p>\n
LOCATION:Olney Assisted Living\, 16940 Georgia Avenue\, Olney\, MD 20832
UID:e.1793.5832
SEQUENCE:3
DTSTAMP:20260421T180001Z
URL:https://business.olneymd.org/events/details/antique-car-cruise-in-trunk-or-treat-to-benefit-the-alzheimer-s-association-5832
END:VEVENT

END:VCALENDAR
