BEGIN:VCALENDAR
VERSION:2.0
PRODID:-//ChamberMaster//Event Calendar 2.0//EN
METHOD:PUBLISH
X-PUBLISHED-TTL:P3D
REFRESH-INTERVAL:P3D
CALSCALE:GREGORIAN
BEGIN:VEVENT
DTSTART:20251025T120000Z
DTEND:20251025T210000Z
X-MICROSOFT-CDO-ALLDAYEVENT:FALSE
SUMMARY:14th Annual Fall Charity Bake Sale for Breast Cancer
DESCRIPTION:Join For 3 Sisters for our 14th Annual Fall Baking for Boobies Spring Bake Sale! Our fabulous volunteer bakers are at it again\, offering homemade\, delicious treats and baked goods!\n\n \n\nTake what you want and leave a donation that makes your heart happy knowing you're helping someone!\n\n*Cash\, Credit Cards\, Apple Pay\, Google Pay\, and Cash App Accepted\n\n \n\n*Volunteer Bakers/Makers and table volunteers are needed. Email Shannon at shannon@f3s.org if you're interested.
X-ALT-DESC;FMTTYPE=text/html:<div>Join <a href="https://www.f3s.org">For 3 Sisters</a> for our 14th Annual Fall Baking for Boobies Spring Bake Sale! Our fabulous volunteer bakers are at it again\, offering homemade\, delicious treats and baked goods!<br />\n&nbsp\;</div>\n\n<div>Take what you want and leave a donation that makes your heart happy knowing you&#39\;re helping someone!</div>\n\n<div>*Cash\, Credit Cards\, Apple Pay\, Google Pay\, and Cash App Accepted</div>\n\n<div>&nbsp\;</div>\n\n<div><em>*Volunteer Bakers/Makers and table volunteers are needed. Email Shannon at shannon@f3s.org if you&#39\;re interested.</em></div>\n
LOCATION:Outside the Giant Food in Olney\, Maryland 18140 Village Center Drive\, Olney\, MD 20832
UID:e.1793.7051
SEQUENCE:3
DTSTAMP:20260421T194542Z
URL:https://business.olneymd.org/events/details/14th-annual-fall-charity-bake-sale-for-breast-cancer-7051
END:VEVENT

END:VCALENDAR
